BEGIN:VCALENDAR
VERSION:2.0
PRODID:-//wp-events-plugin.com//7.2.3.1//EN
TZID:Europe/Berlin
X-WR-TIMEZONE:Europe/Berlin
BEGIN:VEVENT
UID:115@feldenkrais-bensberg.de
DTSTART;TZID=Europe/Berlin:20210630T150000
DTEND;TZID=Europe/Berlin:20210804T160000
DTSTAMP:20210623T191013Z
URL:https://feldenkrais-bensberg.de/termine/feldenkrais-bewusstheit-durch-
 bewegung-94/
SUMMARY:FELDENKRAIS® - Bewusstheit durch Bewegung®
DESCRIPTION:mittwochsnachmittags von 15.00 - 16.00h in der Feldenkrais-Prax
 is von Hannelore F. Weghmann - Wildpfad 2a - 51427 Bergisch Gladbach ( Ref
 rath )\n\nTermine: 30.06.\, 7.\, 14.\, 21.\, 28.07. und 4.08.2021\n\nKoste
 n: 60\,- Euro für 6x60 Minuten\n\nMatten und diverse Lagerungsmaterialien
  sind vorhanden. Mitzubringen wären nur ein paar Socken und evtl. ein Han
 dtuch für die Matte. Getränke dürfen wieder bereitgestellt werden.\n\nW
 eiterhin gelten die allgemein gültigen Hygienemassnahmen\, wie Maske trag
 en bis in den Unterrichtsraum\, Desinfektion der Hände entweder durch Hä
 ndewaschen oder desinfizieren der Hände.\n\n&nbsp\;
ATTACH;FMTTYPE=image/jpeg:https://feldenkrais-bensberg.de/wp-content/uploa
 ds/2020/03/IMG_0049.jpg
CATEGORIES:mittwochs
END:VEVENT
BEGIN:VTIMEZONE
TZID:Europe/Berlin
X-LIC-LOCATION:Europe/Berlin
BEGIN:DAYLIGHT
DTSTART:20210328T030000
TZOFFSETFROM:+0100
TZOFFSETTO:+0200
TZNAME:CEST
END:DAYLIGHT
END:VTIMEZONE
END:VCALENDAR