BEGIN:VCALENDAR
VERSION:2.0
PRODID:-//wp-events-plugin.com//7.2.3.1//EN
TZID:Europe/Berlin
X-WR-TIMEZONE:Europe/Berlin
BEGIN:VEVENT
UID:5@feldenkrais-bensberg.de
DTSTART;TZID=Europe/Berlin:20140313T170000
DTEND;TZID=Europe/Berlin:20140313T183000
DTSTAMP:20170323T092204Z
URL:https://feldenkrais-bensberg.de/termine/feldenkrais-bewusstheit-durch-
 bewegung-4/
SUMMARY:FELDENKRAIS® - Bewusstheit durch Bewegung
DESCRIPTION:im Feldenkrais-Bewegungsraum Wildpfad 2a - 51427 Bergisch Gladb
 ach-Refrath bei Hannelore F. Weghmann\n\nMax. 8 Plätze verfügbar\n\nTerm
 ine: 13.\, 20.\, 27.03.\, 3.\, und 10.04.2014\nKosten: Euro 60\,- für 5x9
 0 Min.
CATEGORIES:donnerstags
END:VEVENT
BEGIN:VTIMEZONE
TZID:Europe/Berlin
X-LIC-LOCATION:Europe/Berlin
BEGIN:STANDARD
DTSTART:20131027T020000
TZOFFSETFROM:+0200
TZOFFSETTO:+0100
TZNAME:CET
END:STANDARD
END:VTIMEZONE
END:VCALENDAR